BEGIN:VCALENDAR
VERSION:2.0
PRODID:-//Toulon Métropole Evénements Congrés - ECPv6.0.5//NONSGML v1.0//EN
CALSCALE:GREGORIAN
METHOD:PUBLISH
X-ORIGINAL-URL:https://toulon-metropole-evenements-congres.com
X-WR-CALDESC:Events for Toulon Métropole Evénements Congrés
REFRESH-INTERVAL;VALUE=DURATION:PT1H
X-Robots-Tag:noindex
X-PUBLISHED-TTL:PT1H
BEGIN:VTIMEZONE
TZID:Europe/Paris
BEGIN:DAYLIGHT
TZOFFSETFROM:+0100
TZOFFSETTO:+0200
TZNAME:CEST
DTSTART:20220327T010000
END:DAYLIGHT
BEGIN:STANDARD
TZOFFSETFROM:+0200
TZOFFSETTO:+0100
TZNAME:CET
DTSTART:20221030T010000
END:STANDARD
BEGIN:DAYLIGHT
TZOFFSETFROM:+0100
TZOFFSETTO:+0200
TZNAME:CEST
DTSTART:20230326T010000
END:DAYLIGHT
BEGIN:STANDARD
TZOFFSETFROM:+0200
TZOFFSETTO:+0100
TZNAME:CET
DTSTART:20231029T010000
END:STANDARD
END:VTIMEZONE
BEGIN:VEVENT
DTSTART;TZID=Europe/Paris:20221028T083000
DTEND;TZID=Europe/Paris:20230630T170000
DTSTAMP:20260425T183010
CREATED:20221117T103722Z
LAST-MODIFIED:20221117T103722Z
UID:10000003-1666945800-1688144400@toulon-metropole-evenements-congres.com
SUMMARY:À la découverte du patrimoine
DESCRIPTION:Le Phare Toulon Provence Méditerranée sur le port de Toulon\nQuai Cronstadt au 334\, avenue de la République – 83000 TOULON\nHoraires d’ouverture du lundi au vendredi de 8h30 à 12h30 et de 13h30 à 17h\nentrée libre
URL:https://toulon-metropole-evenements-congres.com/event/a-la-decouverte-du-patrimoine/
LOCATION:Port de Toulon\, 334 avenue de la république\, Toulon\, 83000\, France
CATEGORIES:Architecture
ATTACH;FMTTYPE=image/jpeg:https://toulon-metropole-evenements-congres.com/wp-content/uploads/2022/10/agenda-870x490-7.jpg
END:VEVENT
END:VCALENDAR