BEGIN:VCALENDAR
VERSION:2.0
PRODID:-//Toulon Métropole Evénements Congrés - ECPv6.0.5//NONSGML v1.0//EN
CALSCALE:GREGORIAN
METHOD:PUBLISH
X-ORIGINAL-URL:https://toulon-metropole-evenements-congres.com
X-WR-CALDESC:Events for Toulon Métropole Evénements Congrés
REFRESH-INTERVAL;VALUE=DURATION:PT1H
X-Robots-Tag:noindex
X-PUBLISHED-TTL:PT1H
BEGIN:VTIMEZONE
TZID:Europe/Paris
BEGIN:DAYLIGHT
TZOFFSETFROM:+0100
TZOFFSETTO:+0200
TZNAME:CEST
DTSTART:20230326T010000
END:DAYLIGHT
BEGIN:STANDARD
TZOFFSETFROM:+0200
TZOFFSETTO:+0100
TZNAME:CET
DTSTART:20231029T010000
END:STANDARD
END:VTIMEZONE
BEGIN:VEVENT
DTSTART;TZID=Europe/Paris:20231109T090000
DTEND;TZID=Europe/Paris:20231110T170000
DTSTAMP:20260426T041630
CREATED:20230418T093117Z
LAST-MODIFIED:20230418T093308Z
UID:10000024-1699520400-1699635600@toulon-metropole-evenements-congres.com
SUMMARY:FMES - Les rencontres stratégiques de la Méditerranée
DESCRIPTION:Jeudi 9 novembre et vendredi 10 novembre 2023 \nLes Rencontres Stratégiques de la Méditerranée\nLe rendez-vous géopolitique incontournable de la Méditerranée\nLes 9 et 10 Novembre 2023 à Toulon\, au palais Neptune. \nCes rencontres ont pour objectif de croiser les regards des #opérationnels\, du monde #académique et des #industriels de #défense afin de #décrypter les grands #enjeux du bassin méditerranéen et du Moyen-Orient au profit de la #réflexion stratégique régionale\, française et européenne. \nAvec 12 tables-rondes\, 50 intervenants et 3 grands témoins\, cet évènement vise à renforcer le rayonnement de l’expertise en Région Sud et en France sur les questions stratégiques et #géopolitiques. \nL’entrée est gratuite\, mais l’inscription obligatoire  Rencontres Stratégiques de la Méditerranée 2023 – Fondation Méditerranéenne d’Etudes Stratégiques (fmes-france.org) \nPlus d’informations sur : https://fmes-france.org/rencontres-strategiques-de-la-mediterranee-2023/
URL:https://toulon-metropole-evenements-congres.com/event/fmes-les-rencontres-strategiques-de-la-mediterranee/
CATEGORIES:Conférence
ATTACH;FMTTYPE=image/png:https://toulon-metropole-evenements-congres.com/wp-content/uploads/2023/04/FMES_RSMED.png
END:VEVENT
END:VCALENDAR