BEGIN:VCALENDAR
VERSION:2.0
PRODID:-//Toulon Métropole Evénements Congrés - ECPv6.0.5//NONSGML v1.0//EN
CALSCALE:GREGORIAN
METHOD:PUBLISH
X-ORIGINAL-URL:https://toulon-metropole-evenements-congres.com
X-WR-CALDESC:Events for Toulon Métropole Evénements Congrés
REFRESH-INTERVAL;VALUE=DURATION:PT1H
X-Robots-Tag:noindex
X-PUBLISHED-TTL:PT1H
BEGIN:VTIMEZONE
TZID:Europe/Paris
BEGIN:DAYLIGHT
TZOFFSETFROM:+0100
TZOFFSETTO:+0200
TZNAME:CEST
DTSTART:20230326T010000
END:DAYLIGHT
BEGIN:STANDARD
TZOFFSETFROM:+0200
TZOFFSETTO:+0100
TZNAME:CET
DTSTART:20231029T010000
END:STANDARD
END:VTIMEZONE
BEGIN:VEVENT
DTSTART;VALUE=DATE:20231117
DTEND;VALUE=DATE:20231119
DTSTAMP:20260424T150020
CREATED:20230418T100504Z
LAST-MODIFIED:20230418T100504Z
UID:10000028-1700179200-1700351999@toulon-metropole-evenements-congres.com
SUMMARY:Salon Studyrama
DESCRIPTION:Le vendredi 17 novembre et samedi 18 novembre 2023 \nInfos : À venir
URL:https://toulon-metropole-evenements-congres.com/event/salon-studyrama/
CATEGORIES:Salon
ATTACH;FMTTYPE=image/png:https://toulon-metropole-evenements-congres.com/wp-content/uploads/2023/04/Capture-decran-le-2023-04-18-a-12.02.17.png
END:VEVENT
END:VCALENDAR