BEGIN:VCALENDAR
VERSION:2.0
PRODID:-//Toulon Métropole Evénements Congrés - ECPv6.0.5//NONSGML v1.0//EN
CALSCALE:GREGORIAN
METHOD:PUBLISH
X-ORIGINAL-URL:https://toulon-metropole-evenements-congres.com
X-WR-CALDESC:Events for Toulon Métropole Evénements Congrés
REFRESH-INTERVAL;VALUE=DURATION:PT1H
X-Robots-Tag:noindex
X-PUBLISHED-TTL:PT1H
BEGIN:VTIMEZONE
TZID:Europe/Paris
BEGIN:DAYLIGHT
TZOFFSETFROM:+0100
TZOFFSETTO:+0200
TZNAME:CEST
DTSTART:20220327T010000
END:DAYLIGHT
BEGIN:STANDARD
TZOFFSETFROM:+0200
TZOFFSETTO:+0100
TZNAME:CET
DTSTART:20221030T010000
END:STANDARD
BEGIN:DAYLIGHT
TZOFFSETFROM:+0100
TZOFFSETTO:+0200
TZNAME:CEST
DTSTART:20230326T010000
END:DAYLIGHT
BEGIN:STANDARD
TZOFFSETFROM:+0200
TZOFFSETTO:+0100
TZNAME:CET
DTSTART:20231029T010000
END:STANDARD
END:VTIMEZONE
BEGIN:VEVENT
DTSTART;TZID=Europe/Paris:20221012T110000
DTEND;TZID=Europe/Paris:20221223T180000
DTSTAMP:20260426T041700
CREATED:20221117T105122Z
LAST-MODIFIED:20221117T105122Z
UID:10000005-1665572400-1671818400@toulon-metropole-evenements-congres.com
SUMMARY:Théma#41 / Mémoires
DESCRIPTION:Le théâtre est le lieu de la mémoire par excellence\, le lieu d’un répertoire qui restitue au présent des traces laissées à l’humanité par Homère\, Sophocle\, Molière et tant d’autres qui traversent les siècles et redeviennent « vivants » sur la scène. La mémoire\, c’est la gymnastique quotidienne de l’acteur qui s’en imprègne et en joue. La mémoire peut être collective ou individuelle\, tue ou partagée\, enfouie puis déterrée. Elle peut passer par la parole\, sur ﬁlm\, papier\, disque gravé… Et elle peut s’effacer\, nous jouer des tours et être sujette à caution. On peut la transformer pour réinventer l’histoire. Et il y a de vrais devoirs de mémoire pour éviter les retours de tragédies bien réelles. Il y a des greniers pleins d’une vie passée\, des ﬂeurs séchées en marque-pages\, des cadavres dans des placards\, des madeleines savoureuses et d’autres plus amères… Mais nous sommes Mémoire(s)\, quoiqu’il en soit\, car l’instant est déjà passé.
URL:https://toulon-metropole-evenements-congres.com/event/thema41-memoires/
LOCATION:Le liberté Théâtre\, Grand Hôtel\, 185 Pl. de la Liberté\, 83000 Toulon\, Toulon\, 83000\, France
CATEGORIES:Culture
ATTACH;FMTTYPE=image/jpeg:https://toulon-metropole-evenements-congres.com/wp-content/uploads/2022/10/agenda-870x490-1.jpg
END:VEVENT
BEGIN:VEVENT
DTSTART;TZID=Europe/Paris:20221008T133000
DTEND;TZID=Europe/Paris:20221218T183000
DTSTAMP:20260426T041700
CREATED:20221117T124954Z
LAST-MODIFIED:20221117T124954Z
UID:10000009-1665235800-1671388200@toulon-metropole-evenements-congres.com
SUMMARY:Untold stories – Peter Lindbergh
DESCRIPTION:« Untold Stories » est la dernière exposition organisée par Peter Lindbergh lui-même peu de temps avant sa disparition en septembre 2019 pour le Kunstpalast à Düsseldorf (février 2020). \nLe photographe allemand a passé deux ans à travailler sur la constitution de cet ensemble de 140 photographies qui offrent une vue générale sur son œuvre\, du début des années 1980 à nos jours. Cette exposition\, réalisée à l’origine pour le Kunstpalast de Düsseldorf et présentée fidèlement pour la première fois en France\, met en valeur l’approche très personnelle de ce maître envers son travail. \nL’exposition est conçue en trois chapitres. Deux installations à grande échelle complètent la présentation et apportent un éclairage nouveau et inattendu sur le travail de Lindbergh. \nVernissage vendredi 7 octobre à partir de 18h. \nVilla Tamaris Centre d’art TPM\n295\, avenue de la Grande maison\n83500 La Seyne-sur-Mer
URL:https://toulon-metropole-evenements-congres.com/event/untold-stories-peter-lindbergh/
LOCATION:Villla Tamaris Centre d’art TPM\, 295\, avenue de la Grande maison\, La Seyne-sur-Mer\, 83500\, France
CATEGORIES:Exposition
ATTACH;FMTTYPE=image/jpeg:https://toulon-metropole-evenements-congres.com/wp-content/uploads/2022/10/agenda-870x490-3.jpg
END:VEVENT
BEGIN:VEVENT
DTSTART;TZID=Europe/Paris:20220915T100000
DTEND;TZID=Europe/Paris:20230204T180000
DTSTAMP:20260426T041700
CREATED:20221117T104854Z
LAST-MODIFIED:20221117T104854Z
UID:10000004-1663236000-1675533600@toulon-metropole-evenements-congres.com
SUMMARY:Entrez dans la pierre…
DESCRIPTION:Quel matériau\, emblématique du patrimoine varois\, associe à la fois production locale\, savoir-faire ancestral\, durabilité\, tout en restant résolument tourné vers l’avenir ? « – La pierre\, bien sûr ! ». \nUne journée portes ouvertes le jeudi 15 septembre 2022\, marquera le lancement de l’exposition dans les locaux du CAUE Var (26 place Vincent Raspail) et la Rue des Arts. Comme tous les ans\, ce lancement inaugure les Journées Européennes du Patrimoine et les quatre mois d’exposition du CAUE Var\, de septembre à décembre 2022. Pour la cinquième année consécutive\, le CAUE Var sensibilise le public à l’architecture\, à l’urbanisme et au paysage à travers les arts \nCette année\, deux séries photographiques différentes seront proposées au public varois : 21 photographies de la célèbre Abbaye du Thoronet dans la Rue des Arts – galerie à ciel ouvert au plus près des publics – et 14 photographies d’édifices varois du néolithique à nos jours\, dans les locaux du CAUE Var. Les photographies des deux séries seront mises en mots par des textes de Fernand Pouillon\, extraits de son roman «Les pierres sauvages».\nPour l’exposition «Entrez dans la pierre… Un récit d’architectures varoises»\, le CAUE Var a missionné le photographe d’architecture Aldo Amoretti et confié le commissariat d’exposition aux architectes Véronique Hours et Fabien Mauduit du collectif A.P.ARTs. Tous trois ont silloné le département pendant plusieurs mois\, pour nous livrer leur sélection la plus représentative de la matière pierre varoise\, à travers les âges et les usages. \nCette exposition photographique et textuelle\, se compose d’une scénographie proposant 35 photographies orchestrées en 2 séries de photographies\, dans 2 lieux différents : \nRUE DES ARTS : série « Première Pierre » \nUne véritable galerie à ciel ouvert\, au plus proche des publics et accessible à toute heure\, exhibera 22 photographies de la très célèbre Abbaye du Thoronet. Un édifice emblématique de la construction en pierre de taille et ayant inspiré un grand nombre d’architectes modernes et contemporains. \nCAUE VAR : série « Matière Première » \nDisposant d’espaces d’accueil du public\, le CAUE Var scénographie dans ses locaux\, 13 photographies d’édifices varois en pierre\, exposés par ordre chronologique. Le public traversera ainsi les âges du néolithique au XXIème siècle.
URL:https://toulon-metropole-evenements-congres.com/event/entrez-dans-la-pierre/
LOCATION:CAUE du Var\, 26 place Vincent Raspail et rue des Arts\, Toulon\, 83000\, France
CATEGORIES:Architecture
ATTACH;FMTTYPE=image/jpeg:https://toulon-metropole-evenements-congres.com/wp-content/uploads/2022/10/agenda-870x490-8.jpg
END:VEVENT
BEGIN:VEVENT
DTSTART;TZID=Europe/Paris:20220827T100000
DTEND;TZID=Europe/Paris:20221204T170000
DTSTAMP:20260426T041700
CREATED:20221117T124509Z
LAST-MODIFIED:20221117T124509Z
UID:10000008-1661594400-1670173200@toulon-metropole-evenements-congres.com
SUMMARY:Les rendez-vous de la biodiversité
DESCRIPTION:D’août à décembre 2022\, la Métropole TPM vous propose une programmation « biodivertissante » et gratuite\, autour de la biodiversité: rando aquatique\, balades\, semaine de l’abeille\, ateliers de création de nichoirs\,… Pour une rentrée vivante et enrichissante!
URL:https://toulon-metropole-evenements-congres.com/event/les-rendez-vous-de-la-biodiversite/
LOCATION:Métropole TPM\, Toulon\, 83000\, France
CATEGORIES:Environnement
ATTACH;FMTTYPE=image/jpeg:https://toulon-metropole-evenements-congres.com/wp-content/uploads/2022/10/agenda-870x490-4.jpg
END:VEVENT
BEGIN:VEVENT
DTSTART;TZID=Europe/Paris:20220624T110000
DTEND;TZID=Europe/Paris:20221030T180000
DTSTAMP:20260426T041700
CREATED:20221117T124106Z
LAST-MODIFIED:20221117T124106Z
UID:10000007-1656068400-1667152800@toulon-metropole-evenements-congres.com
SUMMARY:Intérieurs modernes
DESCRIPTION:L’Hôtel des Arts à Toulon présente l’exposition « Intérieurs modernes\, 1920-1930 »\, sous le commissariat de Marie-Ange Brayer\, conservatrice en charge de la collection design au Centre Pompidou. \nCette exposition présente les chefs-d’œuvre de la collection design du Centre Pompidou\, retrace l’aventure de la modernité en France dans les années 1920-1930 à travers la révolution de l’intérieur domestique.\nPlus de 50 créateurs\, parmi lesquels Charlotte Perriand\, Eileen Gray\, Robert Mallet-Stevens\, Pierre Chareau\, Le Corbusier\, Jean Prouvé\, et plus d’une centaine d’objets de design sont présentés. \nCette exposition retrace les différentes facettes de l’intérieur moderne en France : son héritage des arts décoratifs\, l’esthétique de la machine\, la quête de confort\, le rôle de la lumière et de la couleur\, qui transforment les intérieurs et ouvrent sur de nouvelles manières d’habiter l’espace domestique. Parmi les pièces exceptionnelles de cette exposition\, citons le lampadaire La Religieuse (1923) et le bureau pour Robert Mallet-Stevens (1927) et les objets de mobilier pour la Maison de verre (1928-1931) de Pierre Chareau ; la Table extensible (1927) et le Studio-Bar (1930) de Charlotte Perriand ; le Fauteuil Grand Confort (1928) de Le Corbusier\, Pierre Jeanneret et Charlotte Perriand ; le mobilier d’Eileen Gray pour la villa E1027 (1926-129) ; la Table éclairante de Djo-Bourgeois (1930)\, les bureaux d’André Lurçat\, les luminaires de Jacques Le Chevallier\, ou encore\, le fauteuil de grand repos (1930) ainsi qu’un ensemble d’objets de mobilier conçus pour le Sanatorium de Janville (1937)\, en Haute-Savoie\, de Jean Prouvé. Tapis de Jean Burkhalter ou d’Elise Djo-Bourgeois\, tissus d’Hélène Henry\, objets décoratifs de Jean Dunand\, Paul Bonifas ou encore de Raoul Dufy\, ainsi que les planches en couleur du Répertoire du Goût moderne (1929-1930)\, nous immergeront dans ces intérieurs modernes\, où le décoratif n’a pas été non plus banni.
URL:https://toulon-metropole-evenements-congres.com/event/interieurs-modernes/
LOCATION:Hôtel des Arts\, 236 Bd Maréchal Lecler\, Toulon\, 83000\, France
CATEGORIES:Design
ATTACH;FMTTYPE=image/jpeg:https://toulon-metropole-evenements-congres.com/wp-content/uploads/2022/10/agenda-870x490-6.jpg
END:VEVENT
BEGIN:VEVENT
DTSTART;TZID=Europe/Paris:20220623T100000
DTEND;TZID=Europe/Paris:20221030T210000
DTSTAMP:20260426T041700
CREATED:20221117T125751Z
LAST-MODIFIED:20221117T125751Z
UID:10000011-1655978400-1667163600@toulon-metropole-evenements-congres.com
SUMMARY:Festival Design Parade
DESCRIPTION:Le Festival Design Parade Toulon – 6e festival international d’architecture d’intérieur se tiendra du 23 au 26 juin 2022. Découvrez le programme. \nDevenu LE rendez-vous d’architecture intérieure français de référence\, Design Parade Toulon\, présidé cette année par Rodolphe Parente\, célèbre une nouvelle fois les jeunes talents du design. Avec comme point de départ une pièce dans une maison au bord de la mer\, les dix finalistes ont fait rimer Méditerranée avec créativité\, convivialité et festivité. \nRendez-vous du 23 juin au 30 octobre\, pour explorer au cœur de l’ancien évêché les scénographies des finalistes\, ainsi que plusieurs expositions dans des lieux emblématiques de la ville de Toulon. Temps forts de cette belle programmation : les collections Pompidou à l’Hôtel des Arts !
URL:https://toulon-metropole-evenements-congres.com/event/festival-design-parade/
LOCATION:Villa Noailles\, Montée de Noailles\, Hyères\, 83400\, France
CATEGORIES:Festival
ATTACH;FMTTYPE=image/jpeg:https://toulon-metropole-evenements-congres.com/wp-content/uploads/2022/10/agenda-870x490-5.jpg
END:VEVENT
BEGIN:VEVENT
DTSTART;TZID=Europe/Paris:20220623T080000
DTEND;TZID=Europe/Paris:20221030T170000
DTSTAMP:20260426T041700
CREATED:20221117T105944Z
LAST-MODIFIED:20221117T105944Z
UID:10000006-1655971200-1667149200@toulon-metropole-evenements-congres.com
SUMMARY:Zéphyr – Mourad Merzouki
DESCRIPTION:Le Festival Design Parade Toulon – 6e festival international d’architecture d’intérieur se tiendra du 23 au 26 juin 2022. Découvrez le programme. \nDevenu LE rendez-vous d’architecture intérieure français de référence\, Design Parade Toulon\, présidé cette année par Rodolphe Parente\, célèbre une nouvelle fois les jeunes talents du design. Avec comme point de départ une pièce dans une maison au bord de la mer\, les dix finalistes ont fait rimer Méditerranée avec créativité\, convivialité et festivité. \nRendez-vous du 23 juin au 30 octobre\, pour explorer au cœur de l’ancien évêché les scénographies des finalistes\, ainsi que plusieurs expositions dans des lieux emblématiques de la ville de Toulon. Temps forts de cette belle programmation : les collections Pompidou à l’Hôtel des Arts !
URL:https://toulon-metropole-evenements-congres.com/event/zephyr-mourad-merzouki/
LOCATION:Villa Noailles\, Montée de Noailles\, Hyères\, 83400\, France
CATEGORIES:Danse
ATTACH;FMTTYPE=image/jpeg:https://toulon-metropole-evenements-congres.com/wp-content/uploads/2022/10/agenda-870x490-9.jpg
END:VEVENT
BEGIN:VEVENT
DTSTART;TZID=Europe/Paris:20220623T080000
DTEND;TZID=Europe/Paris:20221030T170000
DTSTAMP:20260426T041700
CREATED:20221114T085333Z
LAST-MODIFIED:20221114T085333Z
UID:10000002-1655971200-1667149200@toulon-metropole-evenements-congres.com
SUMMARY:Festival International d'Architecture d'Intérieur
DESCRIPTION:Dix ans après son aîné\, Design Parade Toulon\, lancé en 2016\, poursuit les mêmes objectifs. Tourné vers l’architecture d’intérieur\, il est le premier concours et festival de ce type en France. En 2019\, le Centre Pompidou et la Métropole Toulon Provence Méditerranée signent une convention pluriannuelle pour exposer les collections nationales de design à Toulon chaque été.\nChaque été\, la villa Noailles organise Design Parade en deux volets : à Toulon pour l’architecture d’intérieur\, à Hyères pour le design.\nLe festival est aussi l’occasion de parcourir le patrimoine des deux villes voisines qui offrent chacune une expression de la richesse architecturale et décorative de la Métropole et du Var. À travers cette proposition Design Parade permet d’aborder\, au cours d’un week-end élargi\, tous les aspects des arts décoratifs dans la création contemporaine.
URL:https://toulon-metropole-evenements-congres.com/event/festival-international-darchitecture-dinterieur/
LOCATION:Villa Noailles\, Montée de Noailles\, Hyères\, 83400\, France
CATEGORIES:Festival
ATTACH;FMTTYPE=image/jpeg:https://toulon-metropole-evenements-congres.com/wp-content/uploads/2022/10/agenda-870x490-5.jpg
END:VEVENT
END:VCALENDAR