BEGIN:VCALENDAR
VERSION:2.0
PRODID:-//Toulon Métropole Evénements Congrés - ECPv6.0.5//NONSGML v1.0//EN
CALSCALE:GREGORIAN
METHOD:PUBLISH
X-ORIGINAL-URL:https://toulon-metropole-evenements-congres.com
X-WR-CALDESC:Events for Toulon Métropole Evénements Congrés
REFRESH-INTERVAL;VALUE=DURATION:PT1H
X-Robots-Tag:noindex
X-PUBLISHED-TTL:PT1H
BEGIN:VTIMEZONE
TZID:Europe/Paris
BEGIN:DAYLIGHT
TZOFFSETFROM:+0100
TZOFFSETTO:+0200
TZNAME:CEST
DTSTART:20220327T010000
END:DAYLIGHT
BEGIN:STANDARD
TZOFFSETFROM:+0200
TZOFFSETTO:+0100
TZNAME:CET
DTSTART:20221030T010000
END:STANDARD
BEGIN:DAYLIGHT
TZOFFSETFROM:+0100
TZOFFSETTO:+0200
TZNAME:CEST
DTSTART:20230326T010000
END:DAYLIGHT
BEGIN:STANDARD
TZOFFSETFROM:+0200
TZOFFSETTO:+0100
TZNAME:CET
DTSTART:20231029T010000
END:STANDARD
END:VTIMEZONE
BEGIN:VEVENT
DTSTART;TZID=Europe/Paris:20231103T200000
DTEND;TZID=Europe/Paris:20231103T220000
DTSTAMP:20260423T120149
CREATED:20230418T092330Z
LAST-MODIFIED:20230418T092330Z
UID:10000023-1699041600-1699048800@toulon-metropole-evenements-congres.com
SUMMARY:David CASTELLO-LOPES - Spectacle
DESCRIPTION:Vendredi 3 novembre 2023 \nSpectacle « AUTHENTIQUE » de DAVID CASTELLO-LOPES vendredi  3 Novembre 2023 à 20h00  – PALAIS NEPTUNE de TOULON. \n« Il y a des choses dont on décrète qu’elles sont authentiques et d’autres que l’on rejette comme pas authentiques (comme Nabilla).  \nIl y a des gens qui semblent tout de suite sincères et d’autres qui ont l’air de mentir en permanence\, même quand ils ne disent rien.  \nMais alors pourquoi ? D’où ça vient ? Qu’est-ce que les vrais gens ont de plus que vous ? Je vais vous dire. » \nPlus d’infos : https://www.adamconcerts.com/david-castello-lopes-38231/ \nTarif 35 € -Placement libre \nRéservation-Billetterie
URL:https://toulon-metropole-evenements-congres.com/event/david-castello-lopes-spectacle/
CATEGORIES:Spectacle
ATTACH;FMTTYPE=image/png:https://toulon-metropole-evenements-congres.com/wp-content/uploads/2023/04/David_Castello_Lopes.png
END:VEVENT
BEGIN:VEVENT
DTSTART;TZID=Europe/Paris:20231026T203000
DTEND;TZID=Europe/Paris:20231026T223000
DTSTAMP:20260423T120149
CREATED:20230418T091920Z
LAST-MODIFIED:20230418T092445Z
UID:10000022-1698352200-1698359400@toulon-metropole-evenements-congres.com
SUMMARY:Edgar YVES - Spectacle
DESCRIPTION:Jeudi 26 octobre 2023 \nSpectacle Edgar Yves- jeudi 26 Octobre 2023 à 20h30 au Palais des Congrès Neptune de Toulon\n \nCertifié Taquin \n« Bon ! Là normalement\, c’est le moment où je tortille du cul pour que tu viennes me voir… » \n« Je me suis fait chier à écrire des trucs rigolos\, mais pour que tu les écoutes\, je dois d’abord te montrer la « Beyoncé » qui sommeille en moi ! \nHonnêtement ? Tu te la racontes de ouf\, toi ! Si tu veux voir des gens danser pour lancer leur carrière\, il y a « Danse avec les Stars » ! \nMoi\, si je veux que tu viennes\, c’est parce que je ne suis pas vegan et qu’on ne fait pas de barbecue avec des salles vides\, donc redescends ! Tu veux de la motivation ? Ok ! Je suis noir\, une place achetée c’est un don pour l’Afrique… \nT’as vu ce que tu me fais écrire ? On en est là parce tu m’as obligé à me montrer inventif ! \nToujours pas convaincu ? OK j’ai compris : « I’m a single Lady ! I’m a Single Lady ! Ohohoh ! » \nOuverture des portes à 19h30 \nPlus d’infos et billetterie: https://www.lecolbert.fr/spectacle/edgar-yves/jeu.-26-oct.-2023 \nTarif : 32\,00 €
URL:https://toulon-metropole-evenements-congres.com/event/edgar-yves-spectacle/
ATTACH;FMTTYPE=image/png:https://toulon-metropole-evenements-congres.com/wp-content/uploads/2023/04/Edgar_Yves.png
END:VEVENT
BEGIN:VEVENT
DTSTART;TZID=Europe/Paris:20230928T083000
DTEND;TZID=Europe/Paris:20230928T170000
DTSTAMP:20260423T120149
CREATED:20230418T094220Z
LAST-MODIFIED:20230505T092209Z
UID:10000025-1695889800-1695920400@toulon-metropole-evenements-congres.com
SUMMARY:VAR UP 2023
DESCRIPTION:VAR UP\, jeudi 28 septembre 2023\, Palais des Congrès Neptune de TOULON\nPourquoi venir à Var.UP\, l’évènement business varois ? \n Quel que soit votre projet entrepreneurial (création d’entreprise\, reprise\, transmission\, recherches de partenaires pour développer votre activité\, recherche de financement pour votre projet…)\, vous pourrez rencontrer des experts de l’entrepreneuriat qui sauront vous orienter et vous accompagner dans vos démarches ou tout simplement vous souhaitez accélérer vos collaborations\, élargir votre réseau ? \nUn riche programme de conférences et ateliers vous est proposé gratuitement tout au long de cette 20ième édition de Var.Up. \nOptimisez votre temps\, en vous inscrivant dès aujourd’hui et en personnalisant votre planning de la journée. \nEntrée gratuite sur inscription obligatoire. Ouverture du salon à partir de 8 h 30. \nPlus d’infos et inscriptions : https://www.varup.com/
URL:https://toulon-metropole-evenements-congres.com/event/var-up/
CATEGORIES:Congrès
ATTACH;FMTTYPE=image/png:https://toulon-metropole-evenements-congres.com/wp-content/uploads/2023/05/Capture-decran-le-2023-05-05-a-11.09.00.png
END:VEVENT
BEGIN:VEVENT
DTSTART;VALUE=DATE:20230914
DTEND;VALUE=DATE:20230916
DTSTAMP:20260423T120149
CREATED:20230418T095733Z
LAST-MODIFIED:20230505T092036Z
UID:10000027-1694649600-1694822399@toulon-metropole-evenements-congres.com
SUMMARY:ONCO-UROVAR 2023
DESCRIPTION:UNCO-UROVAR\, 14 et 15 septembre 2023\, Palais des Congrès Neptune de TOULON\nProgramme bientôt disponible.\nL’inscription est uniquement ouverte aux Médecins généralistes.\nAucune société ne sera acceptée hors contrat de partenariat. \nToute personne extérieure voulant participer devra en faire la demande explicite par mail à l’adresse :\ninfo@oncu-urovar.com. \nPlus d’infos : https://www.onco-urovar.com
URL:https://toulon-metropole-evenements-congres.com/event/congres-onco-urovar/
CATEGORIES:Congrès,Salon
ATTACH;FMTTYPE=image/png:https://toulon-metropole-evenements-congres.com/wp-content/uploads/2023/05/Capture-decran-le-2023-05-05-a-11.08.42.png
END:VEVENT
BEGIN:VEVENT
DTSTART;TZID=Europe/Paris:20230504T150000
DTEND;TZID=Europe/Paris:20230504T193000
DTSTAMP:20260423T120149
CREATED:20230417T144206Z
LAST-MODIFIED:20230417T144206Z
UID:10000019-1683212400-1683228600@toulon-metropole-evenements-congres.com
SUMMARY:Forum Jobs d'été
DESCRIPTION:Forum Jobs d’été – 4 Mai 2023 – Toulon \n+ de 40 entreprises pour + de 500 offres jobs d’été ; De 15h à 16h : ateliers de coaching\, et de 16h à 19h30 : rencontres entreprises \nLa Ville de Toulon organise\, en partenariat avec le Pôle Emploi\, la Mission Locale des Jeunes Toulonnais\, Face Var\, lycée professionnel Claret et Flayz Agency\, le Forum Job été au Palais des Congrès Neptune. \nCet évènement est proposé en 2 temps : \nDe 15h à 16h : ateliers de coaching (aide à la rédaction de CV\, lettre de motivation et posture entretien). \nEt de 16h à 19h30 : Forum réparti en 6 espaces thématisés (animation\, hygiène/service à la personne\, hôtellerie/restauration\, grande distribution/vente\, intérim\, prévention et institutionnel). \nPlus d’infos : https://www.jobs-ete.com/agenda/forum-jobs-dete-4-mai-2023-toulon/ \n 
URL:https://toulon-metropole-evenements-congres.com/event/forum-jobs-dete/
CATEGORIES:Forum
ATTACH;FMTTYPE=image/png:https://toulon-metropole-evenements-congres.com/wp-content/uploads/2023/04/Forum-Jobs-dEte.png
END:VEVENT
BEGIN:VEVENT
DTSTART;VALUE=DATE:20230422
DTEND;VALUE=DATE:20230424
DTSTAMP:20260423T120149
CREATED:20230417T142142Z
LAST-MODIFIED:20230417T142142Z
UID:10000016-1682121600-1682294399@toulon-metropole-evenements-congres.com
SUMMARY:Festival Mang'Azur
DESCRIPTION:Samedi 22 avril et dimanche 23 Avril 2023 \nLa 16ème édition du Mang’Azur se tiendra en les samedi 22 et dimanche 23 avril 2023 au Palais des congrès Neptune de Toulon. \nMang’Azur est le salon incontournable de la pop culture asiatique en région PACA pour tous les amateurs du genre pour le grand public. \nIl s’ouvre depuis 8 ans à la Corée du Sud en proposant des activités tout en continuant de donner la part belle au Pays du soleil levant. \nLe Festival permet de faire découvrir à un large public cette culture au travers de ses traditions\, sa musique\, sa modernité en rassemblant les acteurs de la scène française et japonaise dans ce domaine. \nConcert\, youtubers\, gaming\, conférences\, animations et bien d’autres choses encore !! \nPlus d’informations : https://www.mangazur.fr \nBilletterie: https://www.mangazur.fr/tarifs-et-horaires/ \nInstagram : FESTIVAL MANG’AZUR (@mangazur) • Photos et vidéos Instagram \nTwitter : (20) Festival Mang’Azur (@MangAzur) / Twitter \n  \n\n\n\n\n\n\n\n\n\n\n\n\n\n\n\n 
URL:https://toulon-metropole-evenements-congres.com/event/festival-mangazur-toulon/
LOCATION:Port de Toulon\, 334 avenue de la république\, Toulon\, 83000\, France
CATEGORIES:Festival
ATTACH;FMTTYPE=image/png:https://toulon-metropole-evenements-congres.com/wp-content/uploads/2023/04/16e-festival-mang-azur.png
END:VEVENT
BEGIN:VEVENT
DTSTART;TZID=Europe/Paris:20220623T080000
DTEND;TZID=Europe/Paris:20221030T170000
DTSTAMP:20260423T120149
CREATED:20221117T105944Z
LAST-MODIFIED:20221117T105944Z
UID:10000006-1655971200-1667149200@toulon-metropole-evenements-congres.com
SUMMARY:Zéphyr – Mourad Merzouki
DESCRIPTION:Le Festival Design Parade Toulon – 6e festival international d’architecture d’intérieur se tiendra du 23 au 26 juin 2022. Découvrez le programme. \nDevenu LE rendez-vous d’architecture intérieure français de référence\, Design Parade Toulon\, présidé cette année par Rodolphe Parente\, célèbre une nouvelle fois les jeunes talents du design. Avec comme point de départ une pièce dans une maison au bord de la mer\, les dix finalistes ont fait rimer Méditerranée avec créativité\, convivialité et festivité. \nRendez-vous du 23 juin au 30 octobre\, pour explorer au cœur de l’ancien évêché les scénographies des finalistes\, ainsi que plusieurs expositions dans des lieux emblématiques de la ville de Toulon. Temps forts de cette belle programmation : les collections Pompidou à l’Hôtel des Arts !
URL:https://toulon-metropole-evenements-congres.com/event/zephyr-mourad-merzouki/
LOCATION:Villa Noailles\, Montée de Noailles\, Hyères\, 83400\, France
CATEGORIES:Danse
ATTACH;FMTTYPE=image/jpeg:https://toulon-metropole-evenements-congres.com/wp-content/uploads/2022/10/agenda-870x490-9.jpg
END:VEVENT
END:VCALENDAR